BEGIN:VCALENDAR
VERSION:2.0
PRODID:-//Tukios.com/
BEGIN:VEVENT
UID:0c053ef6-2264-4cc7-8d0f-361f6e931395@www.noblesfuneral.com
DTSTAMP:20260424T201222Z
DTSTART:20260428T220000Z
DTEND:20260429T000000Z
SUMMARY:Visitation
DESCRIPTION:
URL:https://www.noblesfuneral.com/obituaries/hilario-larry-cantu-jr
LOCATION:Nobles Funeral Chapel 402 E Blackshear Street  Navasota TX 77868
GEO:30.3926856;-96.0908826
END:VEVENT
END:VCALENDAR