BEGIN:VCALENDAR
VERSION:2.0
PRODID:-//Tukios.com/
BEGIN:VEVENT
UID:2ebb73be-1a60-46d3-b1ea-bd4d881ba3bb@www.noblesfuneral.com
DTSTAMP:20260424T201616Z
DTSTART:20260429T160000Z
DTEND:20260429T170000Z
SUMMARY:Celebration of Life
DESCRIPTION:
URL:https://www.noblesfuneral.com/obituaries/hilario-larry-cantu-jr
LOCATION:Nobles Funeral Chapel 402 E Blackshear Street  Navasota TX 77868
GEO:30.3926856;-96.0908826
END:VEVENT
END:VCALENDAR