BEGIN:VCALENDAR
VERSION:2.0
PRODID:-//Tukios.com/
BEGIN:VEVENT
UID:603ffef4-909d-4084-8f63-8b9533f65af8@www.noblesfuneral.com
DTSTAMP:20260420T221721Z
DTSTART:20260425T150000Z
DTEND:20260425T160000Z
SUMMARY:Visitation
DESCRIPTION:
URL:https://www.noblesfuneral.com/obituaries/josephine-zaragoza
LOCATION: 11596 Highway 6  Navasota TX 77868
GEO:30.3572276;-96.062335
END:VEVENT
END:VCALENDAR