BEGIN:VCALENDAR
VERSION:2.0
PRODID:-//Tukios.com/
BEGIN:VEVENT
UID:ef4d019e-9e1f-4d9b-b8fa-3ba0061bd1ce@www.noblesfuneral.com
DTSTAMP:20260420T222432Z
DTSTART:20260425T160000Z
DTEND:20260425T170000Z
SUMMARY:Funeral Service
DESCRIPTION:
URL:https://www.noblesfuneral.com/obituaries/josephine-zaragoza
LOCATION: 11596 Highway 6  Navasota TX 77868
GEO:30.3572276;-96.062335
END:VEVENT
END:VCALENDAR