BEGIN:VCALENDAR
VERSION:2.0
PRODID:-//Tukios.com/
BEGIN:VEVENT
UID:9dbf780b-ced4-4628-9982-a0c9e6ab1b05@www.noblesfuneral.com
DTSTAMP:20260420T222300Z
DTSTART:20260425T170000Z
DTEND:20260425T180000Z
SUMMARY:Interment
DESCRIPTION:
URL:https://www.noblesfuneral.com/obituaries/josephine-zaragoza
LOCATION: 801 6th Street  Navasota TX 77868
GEO:30.3915029;-96.1003808
END:VEVENT
END:VCALENDAR